BEGIN:VCALENDAR
VERSION:2.0
PRODID:-//ChamberMaster//Event Calendar 2.0//EN
METHOD:PUBLISH
X-PUBLISHED-TTL:P3D
REFRESH-INTERVAL:P3D
CALSCALE:GREGORIAN
BEGIN:VEVENT
DTSTART:20231017T230000Z
DTEND:20231018T010000Z
X-MICROSOFT-CDO-ALLDAYEVENT:FALSE
SUMMARY:"See How They Fall" Murder+ Mystery with The Dealt Hand
DESCRIPTION:Join us for the large group game\, "See How They Fall\," where the most dangerous game becomes a little less dangerous. \n \n\nForm temporary alliances to find out the details you need to eliminate your target while knowing that someone else is coming after you! But don't worry if you are killed - because on this night\, death is not the end! \n\n \n\nTarget Audience: Adults \n\nLimited Space | Registration Required
X-ALT-DESC;FMTTYPE=text/html:<span style="color:rgb(87\, 90\, 93)\; font-family:calibri\,sans-serif\; font-size:11pt">Join us for the large group game\, &quot\;See How They Fall\,&quot\; where the most dangerous game becomes a little less dangerous.&nbsp\;</span>\n<div>&nbsp\;</div>\n\n<div><span style="font-family:calibri\,sans-serif\; font-size:11pt">Form temporary alliances&nbsp\;to find out the details you need to eliminate your target while knowing that someone else is coming after you! But don&#39\;t worry if you are killed - because on this night\, death is not the end!&nbsp\;</span></div>\n\n<div>&nbsp\;</div>\n\n<div><span style="font-family:calibri\,sans-serif\; font-size:11pt">Target Audience: Adults&nbsp\;</span></div>\n\n<div><span style="font-family:calibri\,sans-serif\; font-size:11pt">Limited Space | <a href="https://urbandalelibrary.evanced.info/signup/EventDetails?EventId=12069&amp\;lib=0&amp\;backTo=Calendar&amp\;startDate=2023/10/04">Registration Required&nbsp\;</a></span></div>\n\n<div>&nbsp\;</div>\n
LOCATION:
UID:e.1185.13210
SEQUENCE:3
DTSTAMP:20260421T225123Z
URL:http://business.uniquelyurbandale.com/events/details/see-how-they-fall-murder-mystery-with-the-dealt-hand-13210
END:VEVENT

END:VCALENDAR
