BEGIN:VCALENDAR
VERSION:2.0
PRODID:-//ChamberMaster//Event Calendar 2.0//EN
METHOD:PUBLISH
X-PUBLISHED-TTL:P3D
REFRESH-INTERVAL:P3D
CALSCALE:GREGORIAN
BEGIN:VEVENT
DTSTART:20230928T210000Z
DTEND:20230929T000000Z
X-MICROSOFT-CDO-ALLDAYEVENT:FALSE
SUMMARY:Sasstastic Live Event for Women
DESCRIPTION:We help re-ignite the fire in women that has gone dim or extinguished. We do this by bringing other women together and bringing energy through laughter\, grace\, humor and sometimes a curse word Who are we kidding\, we say lots of curse words.\n\n\n\nFood and drinks will be served.
X-ALT-DESC;FMTTYPE=text/html:We help re-ignite the fire in women that has gone dim or extinguished. We do this by bringing other women together and bringing energy through laughter\, grace\, humor and sometimes a curse word&hellip\;Who are we kidding\, we say lots of curse words.<br />\n<br />\nFood and drinks will be served.
LOCATION:Des Moines Ballroom\, 1925 High St\, Des Moines IA 50309
UID:e.1185.13149
SEQUENCE:3
DTSTAMP:20260422T002845Z
URL:http://business.uniquelyurbandale.com/events/details/sasstastic-live-event-for-women-13149
END:VEVENT

END:VCALENDAR
