BEGIN:VCALENDAR
VERSION:2.0
PRODID:-//ChamberMaster//Event Calendar 2.0//EN
METHOD:PUBLISH
X-PUBLISHED-TTL:P3D
REFRESH-INTERVAL:P3D
CALSCALE:GREGORIAN
BEGIN:VEVENT
DTSTART:20231218T163000Z
DTEND:20231218T180000Z
X-MICROSOFT-CDO-ALLDAYEVENT:FALSE
SUMMARY:Salon Seven-O's One-Year Anniversary Ribbon Cutting!
DESCRIPTION:Please join the Urbandale Chamber in celebrating Salon Seven-O's One-Year Anniversary Ribbon Cutting Event!\n\n\n\nJoin us in celebrating one-year anniversary of new ownership at Salon Seven-O!
X-ALT-DESC;FMTTYPE=text/html:<span style="color: rgb(75\, 0\, 130)\; font-size: 20px\; font-weight: 700\;">Please join the Urbandale Chamber in celebrating Salon Seven-O&#39\;s One-Year Anniversary&nbsp\;Ribbon Cutting Event!</span><br />\n<br />\nJoin us in celebrating one-year anniversary of new ownership at Salon Seven-O!
LOCATION:Salon Seven-O 3411 70th St. Urbandale\, IA 50322
UID:e.1185.13232
SEQUENCE:3
DTSTAMP:20260421T194246Z
URL:http://business.uniquelyurbandale.com/events/details/salon-seven-o-s-one-year-anniversary-ribbon-cutting-13232
END:VEVENT

END:VCALENDAR
