BEGIN:VCALENDAR
VERSION:2.0
PRODID:-//ChamberMaster//Event Calendar 2.0//EN
METHOD:PUBLISH
X-PUBLISHED-TTL:P3D
REFRESH-INTERVAL:P3D
CALSCALE:GREGORIAN
BEGIN:VEVENT
DTSTART:20230501T213000Z
DTEND:20230502T003000Z
X-MICROSOFT-CDO-ALLDAYEVENT:FALSE
SUMMARY:Salon 86 Celebrating 15 Years Open House & Ribbon Cutting
DESCRIPTION:Join the Urbandale Chamber in celebrating 15 Years Ribbon Cutting with Salon 86\n\n\n\nSalon 86 is back in Urbandale at their new location AND celebrating their 15th business anniversary - Salonniversary! \n\n\n\nCome out and celebrate with us with Food\, Fun and Networking.
X-ALT-DESC;FMTTYPE=text/html:<strong style="color: rgb(75\, 0\, 130)\;"><span style="font-size: 20px\;">Join the Urbandale Chamber in celebrating 15 Years Ribbon Cutting with Salon 86</span></strong><br />\n<br />\n<font color="#000080" face="tahoma"><span style="font-size: 14px\;">Salon 86 is back in Urbandale at their new location AND celebrating their 15th business anniversary - <span style="font-size:16px\;"><em><strong>Salonniversary!&nbsp\;</strong></em><br />\n<br />\n<span style="font-size:14px\;">Come out and celebrate with us with Food\, Fun and Networking.</span></span></span></font>
LOCATION:Salon 86 8066 Douglas Ave. Urbandale\, IA 50322
UID:e.1185.13013
SEQUENCE:3
DTSTAMP:20260422T091051Z
URL:http://business.uniquelyurbandale.com/events/details/salon-86-celebrating-15-years-open-house-ribbon-cutting-13013
END:VEVENT

END:VCALENDAR
