BEGIN:VCALENDAR
VERSION:2.0
PRODID:-//ChamberMaster//Event Calendar 2.0//EN
METHOD:PUBLISH
X-PUBLISHED-TTL:P3D
REFRESH-INTERVAL:P3D
CALSCALE:GREGORIAN
BEGIN:VEVENT
DTSTART:20250219T163000Z
DTEND:20250219T183000Z
X-MICROSOFT-CDO-ALLDAYEVENT:FALSE
SUMMARY:Sales Blitz - Morning Session (TRC Volunteers Only)
DESCRIPTION:Attention TRC Volunteers! Join the morning sales blitz to partner with fellow TRC volunteer to recruit prospective members. You will be given them a golden ticket to invite them out an information session the following week. This is a great opportunity to increase your membership sales. \n\n\n\nAfter you are done\, please come back into the chamber office for complementary pizza!
X-ALT-DESC;FMTTYPE=text/html:Attention TRC Volunteers! Join the morning sales blitz to partner with fellow TRC volunteer to recruit prospective members. You will be given them a golden ticket to invite them out an information session the following week. This is a great opportunity to increase your membership sales.&nbsp\;<br />\n<br />\nAfter you are done\, please come back into the chamber office for complementary pizza!
LOCATION:Urbandale Chamber of Commerce Aisha R. Syed Board Room Realtor | Iowa Realty 2830 100th St. Ste. 110
UID:e.1185.16115
SEQUENCE:3
DTSTAMP:20260421T043946Z
URL:http://business.uniquelyurbandale.com/events/details/sales-blitz-morning-session-trc-volunteers-only-16115
END:VEVENT

END:VCALENDAR
