BEGIN:VCALENDAR
VERSION:2.0
PRODID:-//ChamberMaster//Event Calendar 2.0//EN
METHOD:PUBLISH
X-PUBLISHED-TTL:P3D
REFRESH-INTERVAL:P3D
CALSCALE:GREGORIAN
BEGIN:VEVENT
DTSTART:20250219T193000Z
DTEND:20250219T213000Z
X-MICROSOFT-CDO-ALLDAYEVENT:FALSE
SUMMARY:Sales Blitz - Afternoon Session (TRC Volunteers Only)
DESCRIPTION:Attention TRC Volunteers! Join the afternoon sales blitz to partner with fellow TRC volunteer to recruit prospective members. You will be given them a golden ticket to invite them out an information session the following week. This is a great opportunity to increase your membership sales. \n\n\n\nArrive early and enjoy complementary pizza!  Pizza will be ready by 12:30 p.m.
X-ALT-DESC;FMTTYPE=text/html:Attention TRC Volunteers! Join the afternoon sales blitz to partner with fellow TRC volunteer to recruit prospective members. You will be given them a golden ticket to invite them out an information session the following week. This is a great opportunity to increase your membership sales.&nbsp\;<br />\n<br />\n<span style="color:#FF0000\;"><strong>Arrive early and enjoy complementary pizza!&nbsp\; Pizza will be ready by 12:30 p.m.</strong></span>
LOCATION:Urbandale Chamber of Commerce Aisha R. Syed Board Room Realtor | Iowa Realty 2830 100th St. Ste. 110
UID:e.1185.16116
SEQUENCE:3
DTSTAMP:20260421T031607Z
URL:http://business.uniquelyurbandale.com/events/details/sales-blitz-afternoon-session-trc-volunteers-only-16116
END:VEVENT

END:VCALENDAR
