BEGIN:VCALENDAR
VERSION:2.0
PRODID:-//ChamberMaster//Event Calendar 2.0//EN
METHOD:PUBLISH
X-PUBLISHED-TTL:P3D
REFRESH-INTERVAL:P3D
CALSCALE:GREGORIAN
BEGIN:VEVENT
DTSTART:20240324T010000Z
DTEND:20240324T030000Z
X-MICROSOFT-CDO-ALLDAYEVENT:FALSE
SUMMARY:Route 66
DESCRIPTION:FREE LIVE ENTERTAINMENT\n\nGenre: Country
X-ALT-DESC;FMTTYPE=text/html:<p>FREE LIVE ENTERTAINMENT</p>\n\n<p>Genre: Country</p>\n
LOCATION:Prairie Meadows Racetrack and Casino Finish Line Show Lounge (casino level 2)
UID:e.1185.13665
SEQUENCE:3
DTSTAMP:20260421T164125Z
URL:http://business.uniquelyurbandale.com/events/details/route-66-03-23-2024-13665
END:VEVENT

END:VCALENDAR
