BEGIN:VCALENDAR
VERSION:2.0
PRODID:-//ChamberMaster//Event Calendar 2.0//EN
METHOD:PUBLISH
X-PUBLISHED-TTL:P3D
REFRESH-INTERVAL:P3D
CALSCALE:GREGORIAN
BEGIN:VEVENT
DTSTART:20230929T163000Z
DTEND:20230929T220000Z
X-MICROSOFT-CDO-ALLDAYEVENT:FALSE
SUMMARY:Rotary Club of NW Des Moines Golf Tournament
DESCRIPTION:Come Join us for our Yearly Golf outing. Funds raised by this event will be used to purchase books\, back packs and school supplies as well as winter clothing for school children.
X-ALT-DESC;FMTTYPE=text/html:Come Join us for our Yearly Golf outing. Funds raised by this event will be used to purchase books\, back packs and school supplies as well as winter clothing for school children.
LOCATION:Urbandale Golf and Country Club
UID:e.1185.13146
SEQUENCE:3
DTSTAMP:20260422T003232Z
URL:http://business.uniquelyurbandale.com/events/details/rotary-club-of-nw-des-moines-golf-tournament-13146
END:VEVENT

END:VCALENDAR
