BEGIN:VCALENDAR
VERSION:2.0
PRODID:-//ChamberMaster//Event Calendar 2.0//EN
METHOD:PUBLISH
X-PUBLISHED-TTL:P3D
REFRESH-INTERVAL:P3D
CALSCALE:GREGORIAN
BEGIN:VEVENT
DTSTART:20250112T010000Z
DTEND:20250112T023000Z
X-MICROSOFT-CDO-ALLDAYEVENT:FALSE
SUMMARY:Rick Alviti: That's the Way it Was\, A Tribute to Elvis
DESCRIPTION:Enjoy RICK ALVITI'S "THAT'S THE WAY IT WAS"   A TRIBUTE TO ELVIS in the Finish Line Show Lounge.
X-ALT-DESC;FMTTYPE=text/html:<span style="color:rgb(37\, 37\, 37)\; font-family:open sans\,sans-serif\; font-size:19.74px"><span style="font-size:12px">Enjoy RICK ALVITI&rsquo\;S &ldquo\;THAT&rsquo\;S THE WAY IT WAS&rdquo\; &ndash\; A TRIBUTE TO ELVIS in the Finish Line Show Lounge.</span>&nbsp\;</span>
LOCATION:Prairie Meadows Racetrack & Casino 1 Prairie Meadows Dr\, Altoona\, IA 50009
UID:e.1185.16047
SEQUENCE:3
DTSTAMP:20260421T013423Z
URL:http://business.uniquelyurbandale.com/events/details/rick-alviti-that-s-the-way-it-was-a-tribute-to-elvis-16047
END:VEVENT

END:VCALENDAR
