BEGIN:VCALENDAR
VERSION:2.0
PRODID:-//ChamberMaster//Event Calendar 2.0//EN
METHOD:PUBLISH
X-PUBLISHED-TTL:P3D
REFRESH-INTERVAL:P3D
CALSCALE:GREGORIAN
BEGIN:VEVENT
DTSTART:20250130T220000Z
DTEND:20250131T000000Z
X-MICROSOFT-CDO-ALLDAYEVENT:FALSE
SUMMARY:Ribbon Cutting Event for Workflow Coworking
DESCRIPTION:Join the Urbandale Chamber in celebrating Workflow Coworking's Grand Opening Ribbon Cutting.\n\n\n\nCelebrate the opening of our vibrant coworking space\, designed to inspire productivity and community. Enjoy light refreshments\, meet fellow professionals\, and explore all the amenities Workflow Coworking has to offer. We're excited to connect and grow together - let's make this the start of something amazing!
X-ALT-DESC;FMTTYPE=text/html:<strong style="color: rgb(75\, 0\, 130)\;"><span style="font-size: 20px\;">Join the Urbandale Chamber in celebrating Workflow Coworking&#39\;s Grand Opening Ribbon Cutting.</span></strong><br />\n<br />\nCelebrate the opening of our vibrant coworking space\, designed to inspire productivity and community. Enjoy light refreshments\, meet fellow professionals\, and explore all the amenities Workflow Coworking has to offer. We&#39\;re excited to connect and grow together - let&#39\;s make this the start of something amazing!
LOCATION:Workflow Coworking 7177 Hickman Rd.\, Ste. 9 Urbandale\, IA 50322
UID:e.1185.15970
SEQUENCE:3
DTSTAMP:20260421T013238Z
URL:http://business.uniquelyurbandale.com/events/details/ribbon-cutting-event-for-workflow-coworking-15970
END:VEVENT

END:VCALENDAR
