BEGIN:VCALENDAR
VERSION:2.0
PRODID:-//ChamberMaster//Event Calendar 2.0//EN
METHOD:PUBLISH
X-PUBLISHED-TTL:P3D
REFRESH-INTERVAL:P3D
CALSCALE:GREGORIAN
BEGIN:VEVENT
DTSTART:20241104T220000Z
DTEND:20241105T000000Z
X-MICROSOFT-CDO-ALLDAYEVENT:FALSE
SUMMARY:Ribbon Cutting Event for Vibrant Insurance Group
DESCRIPTION:Join the Urbandale and West Des Moines Chambers in celebrating Vibrant Insurance Group's new office Grand Opening Ribbon Cutting.\n\n\n\nCome out and enjoy food\, fun\, community\, networking and celebrate with us!
X-ALT-DESC;FMTTYPE=text/html:<strong style="color: rgb(75\, 0\, 130)\;"><span style="font-size: 20px\;">Join the Urbandale and West Des Moines Chambers in celebrating Vibrant Insurance Group&#39\;s new office Grand Opening Ribbon Cutting.</span></strong><br />\n<br />\n<font color="#000080" face="tahoma"><span style="font-size: 14px\;">Come out and enjoy food\, fun\, community\, networking and celebrate with us!</span></font>
LOCATION:Vibrant Insurance Group 9750 University Ave.\, Ste. 300 West Des Moines\, IA 50266
UID:e.1185.15844
SEQUENCE:3
DTSTAMP:20260420T235515Z
URL:http://business.uniquelyurbandale.com/events/details/ribbon-cutting-event-for-vibrant-insurance-group-15844
END:VEVENT

END:VCALENDAR
