BEGIN:VCALENDAR
VERSION:2.0
PRODID:-//ChamberMaster//Event Calendar 2.0//EN
METHOD:PUBLISH
X-PUBLISHED-TTL:P3D
REFRESH-INTERVAL:P3D
CALSCALE:GREGORIAN
BEGIN:VEVENT
DTSTART:20251110T223000Z
DTEND:20251111T000000Z
X-MICROSOFT-CDO-ALLDAYEVENT:FALSE
SUMMARY:Ribbon Cutting Event for University of Iowa Health Care
DESCRIPTION:Join the Urbandale Chambers in celebrating the University of Iowa Health Care's Urbandale location Grand Opening.\n\n\n\nA new University of Iowa Health Care location opened in Urbandale\, bringing a several of the system's existing Des Moines-based specialty services together under one roof\, providing patients living in central and western Iowa with more convenient access to care\, close to home.\n\nJoin UI Health Care in celebrating a new clinic location\, as they continue to expand access to care for Iowans.\n\n\n\nThe new clinic\, located at 2901 NW 86th Street in Urbandale began seeing patients on Sept. 9\, 2025. The Urbandale location will serve as a hub for many of the adult and pediatric specialty services currently offered at UI Health Care West Des Moines Jordan Creek Parkway and UI Health Care Johnston Chambery Boulevard\, including adult hepatology\, pediatric nephrology\, pediatric urology\, reproductive endocrinology and infertility services\, and more.
X-ALT-DESC;FMTTYPE=text/html:<strong style="color: rgb(75\, 0\, 130)\;"><span style="font-size: 20px\;">Join the Urbandale Chambers in celebrating the University of Iowa Health Care&#39\;s Urbandale location Grand Opening.</span></strong><br />\n<br />\n<span style="color: rgb(36\, 36\, 36)\; font-family: sans-serif\; font-size: 12px\;">A new University of Iowa Health Care location opened in Urbandale\, bringing a several of the system&rsquo\;s existing Des Moines-based specialty services together under one roof\, providing patients living in central and western Iowa with more convenient access to care\, close to home.</span><br style="color: rgb(36\, 36\, 36)\; font-family: sans-serif\; font-size: 12px\;" />\n<span style="color: rgb(36\, 36\, 36)\; font-family: sans-serif\; font-size: 12px\;">Join UI Health Care in celebrating a new clinic location\, as they continue to expand access to care for Iowans.</span><br style="color: rgb(36\, 36\, 36)\; font-family: sans-serif\; font-size: 12px\;" />\n<br style="color: rgb(36\, 36\, 36)\; font-family: sans-serif\; font-size: 12px\;" />\n<span style="color: rgb(36\, 36\, 36)\; font-family: sans-serif\; font-size: 12px\;">The new clinic\, located at 2901 NW 86th Street in Urbandale began seeing patients on Sept. 9\, 2025. The Urbandale location will serve as a hub for many of the adult and pediatric specialty services currently offered at UI Health Care West Des Moines&ndash\;Jordan Creek Parkway and UI Health Care Johnston&ndash\;Chambery Boulevard\, including adult hepatology\, pediatric nephrology\, pediatric urology\, reproductive endocrinology and infertility services\, and more.</span>
LOCATION:University of Iowa Health Care 2901 NW 86th St. Urbandale\, IA 50322
UID:e.1185.17350
SEQUENCE:3
DTSTAMP:20260421T191228Z
URL:http://business.uniquelyurbandale.com/events/details/ribbon-cutting-event-for-university-of-iowa-health-care-17350
END:VEVENT

END:VCALENDAR
