BEGIN:VCALENDAR
VERSION:2.0
PRODID:-//ChamberMaster//Event Calendar 2.0//EN
METHOD:PUBLISH
X-PUBLISHED-TTL:P3D
REFRESH-INTERVAL:P3D
CALSCALE:GREGORIAN
BEGIN:VEVENT
DTSTART:20240920T210000Z
DTEND:20240920T233000Z
X-MICROSOFT-CDO-ALLDAYEVENT:FALSE
SUMMARY:Ribbon Cutting Event for Thrive Family Chiropractic
DESCRIPTION:Join the Urbandale Chambers in celebrating Thrive Family Chiropractic Grand Opening Ribbon Cutting.\n\n\n\nWe're celebrating the Grand Re-Opening and Ribbon Cutting of Thrive Family Chiropractic in our new\, expanded location! After years of serving our community\, we're excited to mark this milestone with a family-friendly parking lot party from 4-6:30 PM. Join us for food\, fun\, local vendors\, and a great opportunity to connect with fellow community members. Our practice is dedicated to holistic health and wellness\, and this event is our way of giving back to the community that has supported us over the years. We look forward to sharing our new space and continuing our mission of promoting natural health and healing!
X-ALT-DESC;FMTTYPE=text/html:<strong style="color: rgb(75\, 0\, 130)\;"><span style="font-size: 20px\;">Join the Urbandale Chambers in celebrating Thrive Family Chiropractic Grand Opening Ribbon Cutting.</span></strong><br />\n<br />\n<span style="font-size:14px\;"><span style="font-family:arial\,sans-serif\;">We&rsquo\;re celebrating the Grand Re-Opening and Ribbon Cutting of Thrive Family Chiropractic in our new\, expanded location! After years of serving our community\, we&rsquo\;re excited to mark this milestone with a family-friendly parking lot party from 4-6:30 PM. Join us for food\, fun\, local vendors\, and a great opportunity to connect with fellow community members. Our practice is dedicated to holistic health and wellness\, and this event is our way of giving back to the community that has supported us over the years. We look forward to sharing our new space and continuing our mission of promoting natural health and healing!</span></span>
LOCATION:Thrive Family Chiropractic 3935 NW Urbandale Dr. Urbandale\, IA 50322 Parking lot to Thrive Family Chiropractic will be closed for parking. Please park across the street in the Shine Business Park in front of Xtra Innings\, Technology by Design\, WCI Pools & Spas. Parking will also be available behind Thrive Family Chiropractic at the Laser Wash. Please do not block any wash bays or vacuum stations.
UID:e.1185.15665
SEQUENCE:3
DTSTAMP:20260421T090035Z
URL:http://business.uniquelyurbandale.com/events/details/ribbon-cutting-event-for-thrive-family-chiropractic-15665
END:VEVENT

END:VCALENDAR
