BEGIN:VCALENDAR
VERSION:2.0
PRODID:-//ChamberMaster//Event Calendar 2.0//EN
METHOD:PUBLISH
X-PUBLISHED-TTL:P3D
REFRESH-INTERVAL:P3D
CALSCALE:GREGORIAN
BEGIN:VEVENT
DTSTART:20231208T173000Z
DTEND:20231208T183000Z
X-MICROSOFT-CDO-ALLDAYEVENT:FALSE
SUMMARY:Ribbon Cutting Event for the Iowa Demon Hawks
DESCRIPTION:Join Fuse DSM and the Urbandale Chamber in celebrating the Iowa Demon Hawks' inaugural season in the MASL (Major Arena Soccer League) 2\n\n\n\nCome out and enjoy food\, fun\, community\, networking and celebrate the growth of soccer in our community!
X-ALT-DESC;FMTTYPE=text/html:<strong style="color: rgb(75\, 0\, 130)\;"><span style="font-size: 20px\;">Join Fuse DSM and the Urbandale Chamber in celebrating the Iowa Demon Hawks&#39\; inaugural season in the MASL (Major Arena Soccer League) 2</span></strong><br />\n<br />\n<font color="#000080" face="tahoma"><span style="font-size: 14px\;">Come out and enjoy food\, fun\, community\, networking and celebrate the growth of soccer in our community!</span></font>
LOCATION:Iowa Demon Hawks Buccaneer Arena 7201 Hickman Rd. Urbandale\, IA 50322
UID:e.1185.13619
SEQUENCE:3
DTSTAMP:20260421T194224Z
URL:http://business.uniquelyurbandale.com/events/details/ribbon-cutting-event-for-the-iowa-demon-hawks-13619
END:VEVENT

END:VCALENDAR
