BEGIN:VCALENDAR
VERSION:2.0
PRODID:-//ChamberMaster//Event Calendar 2.0//EN
METHOD:PUBLISH
X-PUBLISHED-TTL:P3D
REFRESH-INTERVAL:P3D
CALSCALE:GREGORIAN
BEGIN:VEVENT
DTSTART:20240808T160000Z
DTEND:20240808T180000Z
X-MICROSOFT-CDO-ALLDAYEVENT:FALSE
SUMMARY:Ribbon Cutting Event for Silverstar Car Wash
DESCRIPTION:Join the Urbandale Chamber powering the Windsor Heights Chamber in celebrating Silverstar Car Wash - Windsor Heights' Grand Opening Ribbon Cutting.\n\n\n\nCome out and enjoy food\, fun\, community\, networking and celebrate with us!
X-ALT-DESC;FMTTYPE=text/html:<strong style="color: rgb(75\, 0\, 130)\;"><span style="font-size: 20px\;">Join the Urbandale Chamber powering the Windsor Heights Chamber in celebrating Silverstar Car Wash - Windsor Heights&#39\; Grand Opening Ribbon Cutting.</span></strong><br />\n<br />\n<font color="#000080" face="tahoma"><span style="font-size: 14px\;">Come out and enjoy food\, fun\, community\, networking and celebrate with us!</span></font>
LOCATION:Silverstar Car Was 6300 Hickman Rd. Windsor Heights\, IA 50266
UID:e.1185.15623
SEQUENCE:3
DTSTAMP:20260421T090125Z
URL:http://business.uniquelyurbandale.com/events/details/ribbon-cutting-event-for-silverstar-car-wash-15623
END:VEVENT

END:VCALENDAR
