BEGIN:VCALENDAR
VERSION:2.0
PRODID:-//ChamberMaster//Event Calendar 2.0//EN
METHOD:PUBLISH
X-PUBLISHED-TTL:P3D
REFRESH-INTERVAL:P3D
CALSCALE:GREGORIAN
BEGIN:VEVENT
DTSTART:20260213T170000Z
DTEND:20260213T190000Z
X-MICROSOFT-CDO-ALLDAYEVENT:FALSE
SUMMARY:Ribbon Cutting Event for Re-Bath of Central Iowa
DESCRIPTION:Join the Urbandale Chamber in celebrating Re-Bath of Central Iowa's New Ownership remodeled showroom Grand Opening Ribbon Cutting.
X-ALT-DESC;FMTTYPE=text/html:<strong style="color: rgb(75\, 0\, 130)\;"><span style="font-size: 20px\;">Join the Urbandale Chamber in celebrating Re-Bath of Central Iowa&#39\;s New Ownership remodeled showroom Grand Opening Ribbon Cutting.</span></strong><br />\n<br />\n&nbsp\;
LOCATION:Re-Bath of Central Iowa 10635 Justin Dr. Urbandale\, IA 50322
UID:e.1185.17657
SEQUENCE:3
DTSTAMP:20260421T163147Z
URL:http://business.uniquelyurbandale.com/events/details/ribbon-cutting-event-for-re-bath-of-central-iowa-17657
END:VEVENT

END:VCALENDAR
