BEGIN:VCALENDAR
VERSION:2.0
PRODID:-//ChamberMaster//Event Calendar 2.0//EN
METHOD:PUBLISH
X-PUBLISHED-TTL:P3D
REFRESH-INTERVAL:P3D
CALSCALE:GREGORIAN
BEGIN:VEVENT
DTSTART:20240515T163000Z
DTEND:20240515T180000Z
X-MICROSOFT-CDO-ALLDAYEVENT:FALSE
SUMMARY:Ribbon Cutting Event for R&R Realty Group
DESCRIPTION:Join the Urbandale Chamber in celebrating R&R Realty Group's remodel of the Crescent Building. \n\n\n\n\n\nCome out and enjoy food\, fun\, community\, networking and celebrate with us!
X-ALT-DESC;FMTTYPE=text/html:<strong style="color: rgb(75\, 0\, 130)\;"><span style="font-size: 20px\;">Join the Urbandale Chamber in celebrating R&amp\;R Realty Group&#39\;s remodel of the Crescent Building.&nbsp\;</span></strong><br />\n<br />\n<br />\n<font color="#000080" face="tahoma"><span style="font-size: 14px\;">Come out and enjoy food\, fun\, community\, networking and celebrate with us!</span></font>
LOCATION:R&R Realty Group - Crescent Building 12421 Meredith Dr. Urbandale\, IA 50323
UID:e.1185.15097
SEQUENCE:3
DTSTAMP:20260421T141420Z
URL:http://business.uniquelyurbandale.com/events/details/ribbon-cutting-event-for-r-r-realty-group-15097
END:VEVENT

END:VCALENDAR
