BEGIN:VCALENDAR
VERSION:2.0
PRODID:-//ChamberMaster//Event Calendar 2.0//EN
METHOD:PUBLISH
X-PUBLISHED-TTL:P3D
REFRESH-INTERVAL:P3D
CALSCALE:GREGORIAN
BEGIN:VEVENT
DTSTART:20250430T210000Z
DTEND:20250430T220000Z
X-MICROSOFT-CDO-ALLDAYEVENT:FALSE
SUMMARY:Ribbon Cutting Event for QPS Employment Group
DESCRIPTION:Join the Urbandale Chamber in celebrating QPS Employment Groups' newly remodeled office Grand Opening and 40th Anniversary celebration Ribbon Cutting.\n\n\n\nQPS Employment Group is hosting a ribbon cutting event at our newly remodeled Des Moines office in celebration of 40 years in business!\n\n\n\nQPS Employment Group is a full-service employment firm\, specializing in industrial\, skilled trades\, office/clerical and professional staffing.
X-ALT-DESC;FMTTYPE=text/html:<strong style="color: rgb(75\, 0\, 130)\;"><span style="font-size: 20px\;">Join the Urbandale Chamber in celebrating QPS Employment Groups&#39\; newly remodeled office Grand Opening and 40th Anniversary celebration Ribbon Cutting.</span></strong><br />\n<br />\nQPS Employment Group is hosting a ribbon cutting event at our newly remodeled Des Moines office in celebration of 40 years in business!<br />\n<br />\nQPS Employment Group is a full-service employment firm\, specializing in industrial\, skilled trades\, office/clerical and professional staffing.&nbsp\;
LOCATION:QPS Employment Group 3629 Beaver Ave. Des Moines\, IA 50310
UID:e.1185.17135
SEQUENCE:3
DTSTAMP:20260421T095552Z
URL:http://business.uniquelyurbandale.com/events/details/ribbon-cutting-event-for-qps-employment-group-17135
END:VEVENT

END:VCALENDAR
