BEGIN:VCALENDAR
VERSION:2.0
PRODID:-//ChamberMaster//Event Calendar 2.0//EN
METHOD:PUBLISH
X-PUBLISHED-TTL:P3D
REFRESH-INTERVAL:P3D
CALSCALE:GREGORIAN
BEGIN:VEVENT
DTSTART:20240207T220000Z
DTEND:20240208T000000Z
X-MICROSOFT-CDO-ALLDAYEVENT:FALSE
SUMMARY:Ribbon Cutting Event for Nakata Dojo
DESCRIPTION:Join the Urbandale and West Des Moines Chambers in celebrating Nakata Dojo's Grand Opening Ribbon Cutting.\n\n\n\n\n\nCome out and enjoy food\, fun\, community\, networking and celebrate with us!\n\n\n\nPlease remove shoes after entering Nakata Dojo
X-ALT-DESC;FMTTYPE=text/html:<strong style="color: rgb(75\, 0\, 130)\;"><span style="font-size: 20px\;">Join the Urbandale and West Des Moines Chambers in celebrating Nakata Dojo&#39\;s Grand Opening Ribbon Cutting.</span></strong><br />\n<br />\n<br />\n<font color="#000080" face="tahoma"><span style="font-size: 14px\;">Come out and enjoy food\, fun\, community\, networking and celebrate with us!</span></font><br />\n<br />\n<span style="font-size:14px\;"><em><strong>Please remove shoes after entering Nakata Dojo</strong></em></span>
LOCATION:Nakata Dojo 3942 NW Urbandale Dr. Urbandale\, IA 50322
UID:e.1185.14980
SEQUENCE:3
DTSTAMP:20260421T165658Z
URL:http://business.uniquelyurbandale.com/events/details/ribbon-cutting-event-for-nakata-dojo-14980
END:VEVENT

END:VCALENDAR
