BEGIN:VCALENDAR
VERSION:2.0
PRODID:-//ChamberMaster//Event Calendar 2.0//EN
METHOD:PUBLISH
X-PUBLISHED-TTL:P3D
REFRESH-INTERVAL:P3D
CALSCALE:GREGORIAN
BEGIN:VEVENT
DTSTART:20240731T213000Z
DTEND:20240801T003000Z
X-MICROSOFT-CDO-ALLDAYEVENT:FALSE
SUMMARY:Ribbon Cutting Event for LIVE Hydration Spa - Grimes
DESCRIPTION:Join the Urbandale and Grimes Chambers in celebrating LIVE Hydration Spa - Grimes' Grand Opening Ribbon Cutting.\n\n\n\nCome out and enjoy food\, fun\, community\, networking and celebrate with us!
X-ALT-DESC;FMTTYPE=text/html:<strong style="color: rgb(75\, 0\, 130)\;"><span style="font-size: 20px\;">Join the Urbandale and Grimes Chambers in celebrating LIVE Hydration Spa - Grimes&#39\; Grand Opening Ribbon Cutting.</span></strong><br />\n<br />\n<font color="#000080" face="tahoma"><span style="font-size: 14px\;">Come out and enjoy food\, fun\, community\, networking and celebrate with us!</span></font>
LOCATION:LIVE Hydration Spa - Grimes 1101 E 1st St.\, Ste.107 Grimes\, IA 50111
UID:e.1185.15537
SEQUENCE:3
DTSTAMP:20260421T100813Z
URL:http://business.uniquelyurbandale.com/events/details/ribbon-cutting-event-for-live-hydration-spa-grimes-15537
END:VEVENT

END:VCALENDAR
