BEGIN:VCALENDAR
VERSION:2.0
PRODID:-//ChamberMaster//Event Calendar 2.0//EN
METHOD:PUBLISH
X-PUBLISHED-TTL:P3D
REFRESH-INTERVAL:P3D
CALSCALE:GREGORIAN
BEGIN:VEVENT
DTSTART:20240619T210000Z
DTEND:20240619T230000Z
X-MICROSOFT-CDO-ALLDAYEVENT:FALSE
SUMMARY:Ribbon Cutting Event for Liquor Land
DESCRIPTION:Join the Urbandale Chamber in celebrating Liquor Land's Grand Opening Ribbon Cutting.\n\n\n\nCome out and enjoy food\, fun\, community\, networking and celebrate with us!
X-ALT-DESC;FMTTYPE=text/html:<strong style="color: rgb(75\, 0\, 130)\;"><span style="font-size: 20px\;">Join the Urbandale Chamber in celebrating Liquor Land&#39\;s Grand Opening Ribbon Cutting.</span></strong><br />\n<br />\n<font color="#000080" face="tahoma"><span style="font-size: 14px\;">Come out and enjoy food\, fun\, community\, networking and celebrate with us!</span></font>
LOCATION:Liquor Land 4995 Merle Hay Rd. Unit B Des Moines\, IA 50322
UID:e.1185.15569
SEQUENCE:3
DTSTAMP:20260421T113621Z
URL:http://business.uniquelyurbandale.com/events/details/ribbon-cutting-event-for-liquor-land-15569
END:VEVENT

END:VCALENDAR
