BEGIN:VCALENDAR
VERSION:2.0
PRODID:-//ChamberMaster//Event Calendar 2.0//EN
METHOD:PUBLISH
X-PUBLISHED-TTL:P3D
REFRESH-INTERVAL:P3D
CALSCALE:GREGORIAN
BEGIN:VEVENT
DTSTART:20241113T210000Z
DTEND:20241113T223000Z
X-MICROSOFT-CDO-ALLDAYEVENT:FALSE
SUMMARY:Ribbon Cutting Event for Illahee Hills
DESCRIPTION:Join the Urbandale Chamber in celebrating Illahee Hills Grand Re-Opening with a Ribbon Cutting! \n\n\n\n\n\nHelp us officially open our newly renovated community. Our renovations has improved our community for the residents living here and will allow us to be able to better serve more residents in Urbandale and beyond by offering them a senior living environment where they not only live - they thrive!\n\n\n\nCome out and enjoy food\, fun\, community\, networking and celebrate with us!
X-ALT-DESC;FMTTYPE=text/html:<strong style="color: rgb(75\, 0\, 130)\;"><span style="font-size: 20px\;">Join the Urbandale Chamber in celebrating Illahee Hills Grand Re-Opening with a Ribbon Cutting!&nbsp\;</span></strong><br />\n<br />\n<br />\n<font color="#000080" face="tahoma"><span style="font-size: 14px\;">Help us officially open our newly renovated community. Our renovations has improved our community for the residents living here and will allow us to be able to better serve more residents in Urbandale and beyond by offering them a senior living environment where they not only live - they thrive!<br />\n<br />\nCome out and enjoy food\, fun\, community\, networking and celebrate with us!</span></font>
LOCATION:Illahee Hills 8303 Colby Parkway Urbandale\, IA 50322
UID:e.1185.15702
SEQUENCE:3
DTSTAMP:20260420T235514Z
URL:http://business.uniquelyurbandale.com/events/details/ribbon-cutting-event-for-illahee-hills-15702
END:VEVENT

END:VCALENDAR
