BEGIN:VCALENDAR
VERSION:2.0
PRODID:-//ChamberMaster//Event Calendar 2.0//EN
METHOD:PUBLISH
X-PUBLISHED-TTL:P3D
REFRESH-INTERVAL:P3D
CALSCALE:GREGORIAN
BEGIN:VEVENT
DTSTART:20241015T220000Z
DTEND:20241015T230000Z
X-MICROSOFT-CDO-ALLDAYEVENT:FALSE
SUMMARY:Ribbon Cutting Event for HW Premium CBD
DESCRIPTION:Join the Urbandale Chamber in celebrating HW Premium CBD's new location Grand Opening Ribbon Cutting.\n\n\n\nCome out and enjoy food\, fun\, community\, networking and celebrate with us!
X-ALT-DESC;FMTTYPE=text/html:<strong style="color: rgb(75\, 0\, 130)\;"><span style="font-size: 20px\;">Join the Urbandale Chamber in celebrating HW Premium CBD&#39\;s new location Grand Opening Ribbon Cutting.</span></strong><br />\n<br />\n<font color="#000080" face="tahoma"><span style="font-size: 14px\;">Come out and enjoy food\, fun\, community\, networking and celebrate with us!</span></font>
LOCATION:HW Premium CBD 8515 Hickman Rd. Urbandale\, IA 50322
UID:e.1185.15699
SEQUENCE:3
DTSTAMP:20260421T061418Z
URL:http://business.uniquelyurbandale.com/events/details/ribbon-cutting-event-for-hw-premium-cbd-15699
END:VEVENT

END:VCALENDAR
