BEGIN:VCALENDAR
VERSION:2.0
PRODID:-//ChamberMaster//Event Calendar 2.0//EN
METHOD:PUBLISH
X-PUBLISHED-TTL:P3D
REFRESH-INTERVAL:P3D
CALSCALE:GREGORIAN
BEGIN:VEVENT
DTSTART:20241111T220000Z
DTEND:20241111T230000Z
X-MICROSOFT-CDO-ALLDAYEVENT:FALSE
SUMMARY:Ribbon Cutting Event for GoMobile Tires Des Moines
DESCRIPTION:Join the Urbandale Chambers in celebrating GoMobile Tires Des Moines Grand Opening Ribbon Cutting.\n\n\n\nCome out and enjoy food\, fun\, community\, networking and celebrate with us!
X-ALT-DESC;FMTTYPE=text/html:<strong style="color: rgb(75\, 0\, 130)\;"><span style="font-size: 20px\;">Join the Urbandale Chambers in celebrating GoMobile Tires Des Moines Grand Opening Ribbon Cutting.</span></strong><br />\n<br />\n<span style="color: rgb(0\, 0\, 128)\; font-family: tahoma\; font-size: 14px\;">Come out and enjoy food\, fun\, community\, networking and celebrate with us!</span>
LOCATION:Urbandale Chamber of Commerce 2830 100th St.\, Ste. 110 Urbandale\, IA 50322
UID:e.1185.15753
SEQUENCE:3
DTSTAMP:20260420T235633Z
URL:http://business.uniquelyurbandale.com/events/details/ribbon-cutting-event-for-gomobile-tires-des-moines-15753
END:VEVENT

END:VCALENDAR
