BEGIN:VCALENDAR
VERSION:2.0
PRODID:-//ChamberMaster//Event Calendar 2.0//EN
METHOD:PUBLISH
X-PUBLISHED-TTL:P3D
REFRESH-INTERVAL:P3D
CALSCALE:GREGORIAN
BEGIN:VEVENT
DTSTART:20251017T210000Z
DTEND:20251017T230000Z
X-MICROSOFT-CDO-ALLDAYEVENT:FALSE
SUMMARY:Ribbon Cutting Event for Everbrook Academy of Urbandale
DESCRIPTION:Join the Urbandale Chamber in celebrating Everbrook Academy of Urbandale's Grand Opening Ribbon Cutting.
X-ALT-DESC;FMTTYPE=text/html:<strong style="color: rgb(75\, 0\, 130)\;"><span style="font-size: 20px\;">Join the Urbandale Chamber in celebrating Everbrook Academy of Urbandale&#39\;s Grand Opening Ribbon Cutting.</span></strong><br />\n&nbsp\;
LOCATION:Everbrook Academy of Urbandale 15200 Meredith Dr. Urbandale\, IA 50323
UID:e.1185.17377
SEQUENCE:3
DTSTAMP:20260421T164400Z
URL:http://business.uniquelyurbandale.com/events/details/ribbon-cutting-event-for-everbrook-academy-of-urbandale-17377
END:VEVENT

END:VCALENDAR
