BEGIN:VCALENDAR
VERSION:2.0
PRODID:-//ChamberMaster//Event Calendar 2.0//EN
METHOD:PUBLISH
X-PUBLISHED-TTL:P3D
REFRESH-INTERVAL:P3D
CALSCALE:GREGORIAN
BEGIN:VEVENT
DTSTART:20240325T210000Z
DTEND:20240325T230000Z
X-MICROSOFT-CDO-ALLDAYEVENT:FALSE
SUMMARY:Ribbon Cutting Event for Dog Training Elite Des Moines
DESCRIPTION:Join the Urbandale Chamber and FUSE DSM in celebrating Dog Training Elite Des Moines' New Facility Grand Opening Ribbon Cutting.\n\n\n\nCome out and enjoy food\, fun\, community\, networking and celebrate with us!
X-ALT-DESC;FMTTYPE=text/html:<strong style="color: rgb(75\, 0\, 130)\;"><span style="font-size: 20px\;">Join the Urbandale Chamber and FUSE DSM in celebrating Dog Training Elite Des Moines&#39\; New Facility Grand Opening Ribbon Cutting.</span></strong><br />\n<br />\n<font color="#000080" face="tahoma"><span style="font-size: 14px\;">Come out and enjoy food\, fun\, community\, networking and celebrate with us!</span></font>
LOCATION:Dog Training Elite Des Moines 8801 University Ave. Ste. 22-D Clive\, IA 50325
UID:e.1185.15030
SEQUENCE:3
DTSTAMP:20260421T154244Z
URL:http://business.uniquelyurbandale.com/events/details/ribbon-cutting-event-for-dog-training-elite-des-moines-15030
END:VEVENT

END:VCALENDAR
