BEGIN:VCALENDAR
VERSION:2.0
PRODID:-//ChamberMaster//Event Calendar 2.0//EN
METHOD:PUBLISH
X-PUBLISHED-TTL:P3D
REFRESH-INTERVAL:P3D
CALSCALE:GREGORIAN
BEGIN:VEVENT
DTSTART:20240412T210000Z
DTEND:20240412T230000Z
X-MICROSOFT-CDO-ALLDAYEVENT:FALSE
SUMMARY:Ribbon Cutting Event for Dinks Pickleball
DESCRIPTION:Join the Urbandale Chamber in celebrating Dinks Pickleball's Grand Opening Ribbon Cutting.\n\n\n\nCome help Dinks Pickleball Celebrate their Ribbon Cutting and Grand Opening! Meet the owner\, tour the facility\, learn about memberships\, leagues\, tournaments\, events and stick around for free open play after the ribbon cutting!
X-ALT-DESC;FMTTYPE=text/html:<strong style="color: rgb(75\, 0\, 130)\;"><span style="font-size: 20px\;">Join the Urbandale Chamber in celebrating Dinks Pickleball&#39\;s Grand Opening Ribbon Cutting.</span></strong><br />\n<br />\n<font color="#000080" face="tahoma"><span style="font-size: 14px\;">Come help Dinks Pickleball Celebrate their Ribbon Cutting and Grand Opening! Meet the owner\, tour the facility\, learn about memberships\, leagues\, tournaments\, events and stick around for free open play after the ribbon cutting!</span></font>
LOCATION:Dinks Pickleball 3800 Merle Hay Rd. Ste. 1000 Des Moines\, IA 50310 Please park in the parking lot north of the parking garage. Please enter Dinks Pickleball through the North entrance doors or the Merle Hay Mall food court entrance.
UID:e.1185.15118
SEQUENCE:3
DTSTAMP:20260421T142617Z
URL:http://business.uniquelyurbandale.com/events/details/ribbon-cutting-event-for-dinks-pickleball-15118
END:VEVENT

END:VCALENDAR
