BEGIN:VCALENDAR
VERSION:2.0
PRODID:-//ChamberMaster//Event Calendar 2.0//EN
METHOD:PUBLISH
X-PUBLISHED-TTL:P3D
REFRESH-INTERVAL:P3D
CALSCALE:GREGORIAN
BEGIN:VEVENT
DTSTART:20241010T210000Z
DTEND:20241010T230000Z
X-MICROSOFT-CDO-ALLDAYEVENT:FALSE
SUMMARY:Ribbon Cutting Event for D.R Horton
DESCRIPTION:Join the Urbandale Chamber in celebrating D.R Horton's Magnolia Heights Community Grand Opening Ribbon Cutting\n\n\n\n\n\nCome out and enjoy food\, fun\, community\, networking and celebrate with us!
X-ALT-DESC;FMTTYPE=text/html:<strong style="color: rgb(75\, 0\, 130)\;"><span style="font-size: 20px\;">Join the Urbandale Chamber in celebrating D.R Horton&#39\;s Magnolia Heights Community Grand Opening Ribbon Cutting</span></strong><br />\n<br />\n<br />\n<font color="#000080" face="tahoma"><span style="font-size: 14px\;">Come out and enjoy food\, fun\, community\, networking and celebrate with us!</span></font>
LOCATION:D.R Horton - Magnolia Heights Community 5641 153rd St. Urbandale\, IA 50323
UID:e.1185.15670
SEQUENCE:3
DTSTAMP:20260421T061439Z
URL:http://business.uniquelyurbandale.com/events/details/ribbon-cutting-event-for-d-r-horton-15670
END:VEVENT

END:VCALENDAR
