BEGIN:VCALENDAR
VERSION:2.0
PRODID:-//ChamberMaster//Event Calendar 2.0//EN
METHOD:PUBLISH
X-PUBLISHED-TTL:P3D
REFRESH-INTERVAL:P3D
CALSCALE:GREGORIAN
BEGIN:VEVENT
DTSTART:20251124T174500Z
DTEND:20251124T184500Z
X-MICROSOFT-CDO-ALLDAYEVENT:FALSE
SUMMARY:Ribbon Cutting Event for Clean Slate Laser Services
DESCRIPTION:Join the Urbandale Chamber in celebrating Clean Slate Laser Services' Grand Opening Ribbon Cutting
X-ALT-DESC;FMTTYPE=text/html:<strong style="color: rgb(75\, 0\, 130)\;"><span style="font-size: 20px\;">Join the Urbandale Chamber in celebrating Clean Slate Laser Services&#39\; Grand Opening Ribbon Cutting</span></strong>
LOCATION:Clean Slate Laser Services 2478 E Euclid Ave. Des Moines\, IA 50317
UID:e.1185.17437
SEQUENCE:3
DTSTAMP:20260421T191103Z
URL:http://business.uniquelyurbandale.com/events/details/ribbon-cutting-event-for-clean-slate-laser-services-17437
END:VEVENT

END:VCALENDAR
