BEGIN:VCALENDAR
VERSION:2.0
PRODID:-//ChamberMaster//Event Calendar 2.0//EN
METHOD:PUBLISH
X-PUBLISHED-TTL:P3D
REFRESH-INTERVAL:P3D
CALSCALE:GREGORIAN
BEGIN:VEVENT
DTSTART:20240916T220000Z
DTEND:20240916T230000Z
X-MICROSOFT-CDO-ALLDAYEVENT:FALSE
SUMMARY:Ribbon Cutting Event for City of Windsor Heights
DESCRIPTION:Join the Urbandale/ Windsor Heights Chamber for the City of Windsor Heights' DART Art Shelter Grand Opening Ribbon Cutting.\n\n\n\nCome out and enjoy food\, fun\, community\, networking and celebrate with us!\n\n\n\nEvent will begin at the 66th St. DART Art shelter at the intersection of 66th and University Ave. Following the ribbon cutting\, there will be a transition to the DART Art Shelter just outside of the Windsor Heights Hy-Vee. Located on the South side of the building lining University Ave.
X-ALT-DESC;FMTTYPE=text/html:<strong style="color: rgb(75\, 0\, 130)\;"><span style="font-size: 20px\;">Join the Urbandale/ Windsor Heights Chamber for the City of Windsor Heights&#39\; DART Art Shelter Grand Opening Ribbon Cutting.</span></strong><br />\n<br />\n<font color="#000080" face="tahoma"><span style="font-size: 14px\;">Come out and enjoy food\, fun\, community\, networking and celebrate with us!</span></font><br />\n<br />\nEvent will begin at the 66th St. DART Art shelter at the intersection of 66th and University Ave. Following the ribbon cutting\, there will be a transition to the DART Art Shelter just outside of the Windsor Heights Hy-Vee. Located on the South side of the building lining University Ave.&nbsp\;
LOCATION:DART Art Shelter at the Intersection of 66th and University Ave.\, 1145 66th St. Ste. 1 Windsor Heights\, IA 50324 DART Art Shelter at the Windsor Heights HyVee 7101 University Ave. Windsor Heights\, IA 50324
UID:e.1185.15663
SEQUENCE:3
DTSTAMP:20260421T074727Z
URL:http://business.uniquelyurbandale.com/events/details/ribbon-cutting-event-for-city-of-windsor-heights-15663
END:VEVENT

END:VCALENDAR
