BEGIN:VCALENDAR
VERSION:2.0
PRODID:-//ChamberMaster//Event Calendar 2.0//EN
METHOD:PUBLISH
X-PUBLISHED-TTL:P3D
REFRESH-INTERVAL:P3D
CALSCALE:GREGORIAN
BEGIN:VEVENT
DTSTART:20250410T210000Z
DTEND:20250410T230000Z
X-MICROSOFT-CDO-ALLDAYEVENT:FALSE
SUMMARY:Ribbon Cutting Event for Cheba Hut
DESCRIPTION:Join the Urbandale\, FUSE and Johnston Chambers in celebrating Cheba Hut's Grand Opening Ribbon Cutting.
X-ALT-DESC;FMTTYPE=text/html:<strong style="color: rgb(75\, 0\, 130)\;"><span style="font-size: 20px\;">Join the Urbandale\, FUSE and Johnston Chambers in celebrating Cheba Hut&#39\;s Grand Opening Ribbon Cutting.</span></strong>
LOCATION:Cheba Hut 5260 Merle Hay Rd. Johnston\, IA 50131
UID:e.1185.17076
SEQUENCE:3
DTSTAMP:20260421T055416Z
URL:http://business.uniquelyurbandale.com/events/details/ribbon-cutting-event-for-cheba-hut-17076
END:VEVENT

END:VCALENDAR
