BEGIN:VCALENDAR
VERSION:2.0
PRODID:-//ChamberMaster//Event Calendar 2.0//EN
METHOD:PUBLISH
X-PUBLISHED-TTL:P3D
REFRESH-INTERVAL:P3D
CALSCALE:GREGORIAN
BEGIN:VEVENT
DTSTART:20240925T213000Z
DTEND:20240926T003000Z
X-MICROSOFT-CDO-ALLDAYEVENT:FALSE
SUMMARY:Ribbon Cutting Event for Carpet One Floor & Home
DESCRIPTION:Join the Urbandale Chamber in celebrating Carpet One Floor & Home's new location Grand Opening Ribbon Cutting.\n\n\n\nCome out and enjoy food\, fun\, community\, networking and celebrate with us!
X-ALT-DESC;FMTTYPE=text/html:<strong style="color: rgb(75\, 0\, 130)\;"><span style="font-size: 20px\;">Join the Urbandale Chamber in celebrating Carpet One Floor &amp\; Home&#39\;s new location Grand Opening Ribbon Cutting.</span></strong><br />\n<br />\n<font color="#000080" face="tahoma"><span style="font-size: 14px\;">Come out and enjoy food\, fun\, community\, networking and celebrate with us!</span></font>
LOCATION:Carpet One Floor & Home 2701 86th St. Urbandale\, IA 50322
UID:e.1185.15630
SEQUENCE:3
DTSTAMP:20260421T074417Z
URL:http://business.uniquelyurbandale.com/events/details/ribbon-cutting-event-for-carpet-one-floor-home-15630
END:VEVENT

END:VCALENDAR
