BEGIN:VCALENDAR
VERSION:2.0
PRODID:-//ChamberMaster//Event Calendar 2.0//EN
METHOD:PUBLISH
X-PUBLISHED-TTL:P3D
REFRESH-INTERVAL:P3D
CALSCALE:GREGORIAN
BEGIN:VEVENT
DTSTART:20240501T180000Z
DTEND:20240501T190000Z
X-MICROSOFT-CDO-ALLDAYEVENT:FALSE
SUMMARY:Ribbon Cutting Event for Alzheimer's Association - Iowa Chapter
DESCRIPTION:Join the Urbandale Chamber in celebrating the Alzheimer's Association - Iowa Chapter's relocation Ribbon Cutting.\n\n\n\nCome out and enjoy food\, fun\, community\, networking and celebrate with us!
X-ALT-DESC;FMTTYPE=text/html:<strong style="color: rgb(75\, 0\, 130)\;"><span style="font-size: 20px\;">Join the Urbandale Chamber in celebrating the Alzheimer&#39\;s Association - Iowa Chapter&#39\;s relocation Ribbon Cutting.</span></strong><br />\n<br />\n<font color="#000080" face="tahoma"><span style="font-size: 14px\;">Come out and enjoy food\, fun\, community\, networking and celebrate with us!</span></font>
LOCATION:Alzheimer's Association - Iowa Chapter 1415 28th St. #430 West Des Moines\, IA 50266
UID:e.1185.15026
SEQUENCE:3
DTSTAMP:20260421T130538Z
URL:http://business.uniquelyurbandale.com/events/details/ribbon-cutting-event-for-alzheimer-s-association-iowa-chapter-15026
END:VEVENT

END:VCALENDAR
