BEGIN:VCALENDAR
VERSION:2.0
PRODID:-//ChamberMaster//Event Calendar 2.0//EN
METHOD:PUBLISH
X-PUBLISHED-TTL:P3D
REFRESH-INTERVAL:P3D
CALSCALE:GREGORIAN
BEGIN:VEVENT
DTSTART:20240725T160000Z
DTEND:20240725T180000Z
X-MICROSOFT-CDO-ALLDAYEVENT:FALSE
SUMMARY:RESCHEDULED - Aug.8th - Ribbon Cutting Event for Silverstar Car Wash
DESCRIPTION:*NOTE: Due to storm damage\, this event has be rescheduled to August 8th*\n\n\n\nJoin the Urbandale Chamber powering the Windsor Heights Chamber in celebrating Silverstar Car Wash - Windsor Heights' Grand Opening Ribbon Cutting.\n\n\n\nCome out and enjoy food\, fun\, community\, networking and celebrate with us!
X-ALT-DESC;FMTTYPE=text/html:<strong style="color: rgb(75\, 0\, 130)\;"><span style="font-size: 20px\;"><span style="color:#FF0000\;">*NOTE: Due to storm damage\, this event has be rescheduled to August 8th*</span><br />\n<br />\nJoin the Urbandale Chamber powering the Windsor Heights Chamber in celebrating Silverstar Car Wash - Windsor Heights&#39\; Grand Opening Ribbon Cutting.</span></strong><br />\n<br />\n<font color="#000080" face="tahoma"><span style="font-size: 14px\;">Come out and enjoy food\, fun\, community\, networking and celebrate with us!</span></font>
LOCATION:Silverstar Car Was 6300 Hickman Rd. Windsor Heights\, IA 50266
UID:e.1185.15619
SEQUENCE:3
DTSTAMP:20260421T101705Z
URL:http://business.uniquelyurbandale.com/events/details/rescheduled-aug-8th-ribbon-cutting-event-for-silverstar-car-wash-15619
END:VEVENT

END:VCALENDAR
