BEGIN:VCALENDAR
VERSION:2.0
PRODID:-//ChamberMaster//Event Calendar 2.0//EN
METHOD:PUBLISH
X-PUBLISHED-TTL:P3D
REFRESH-INTERVAL:P3D
CALSCALE:GREGORIAN
BEGIN:VEVENT
DTSTART:20250111T020000Z
DTEND:20250111T050000Z
X-MICROSOFT-CDO-ALLDAYEVENT:FALSE
SUMMARY:Recoil
DESCRIPTION:Classic rock and pop tribute band Recoil always keeps the party going strong with high-energy sounds from the 70s\, 80s\, and 90s. Grab your dancing shoes and get ready for some flashback fun! Must be 21 or older to attend.
X-ALT-DESC;FMTTYPE=text/html:Classic rock and pop tribute band Recoil always keeps the party going strong with high-energy sounds from the 70s\, 80s\, and 90s. Grab your dancing shoes and get ready for some flashback fun! Must be 21 or older to attend.
LOCATION:Prairie Meadows Casino & Racetrack 1 Prairie Meadows Dr\, Altoona\, IA 50009
UID:e.1185.16053
SEQUENCE:3
DTSTAMP:20260421T013157Z
URL:http://business.uniquelyurbandale.com/events/details/recoil-01-10-2025-16053
END:VEVENT

END:VCALENDAR
