BEGIN:VCALENDAR
VERSION:2.0
PRODID:-//ChamberMaster//Event Calendar 2.0//EN
METHOD:PUBLISH
X-PUBLISHED-TTL:P3D
REFRESH-INTERVAL:P3D
CALSCALE:GREGORIAN
BEGIN:VEVENT
DTSTART:20231017T210000Z
DTEND:20231017T220000Z
X-MICROSOFT-CDO-ALLDAYEVENT:FALSE
SUMMARY:RE/MAX Real Estate Center - Sean Asada Grand Opening Ribbon Cutting
DESCRIPTION:Join the Urbandale Chamber in celebrating RE/MAX Real Estate Center - Sean Asada's Grand Opening Ribbon Cutting.
X-ALT-DESC;FMTTYPE=text/html:<strong style="color: rgb(75\, 0\, 130)\;"><span style="font-size: 20px\;">Join the Urbandale Chamber in celebrating RE/MAX Real Estate Center - Sean Asada&#39\;s Grand Opening Ribbon Cutting.</span></strong><br />\n<br />\n&nbsp\;
LOCATION:RE/MAX Real Estate Center 4820 100th St. | Ste. 101 Urbandale\, IA 50322
UID:e.1185.13158
SEQUENCE:3
DTSTAMP:20260421T225244Z
URL:http://business.uniquelyurbandale.com/events/details/re-max-real-estate-center-sean-asada-grand-opening-ribbon-cutting-13158
END:VEVENT

END:VCALENDAR
