BEGIN:VCALENDAR
VERSION:2.0
PRODID:-//ChamberMaster//Event Calendar 2.0//EN
METHOD:PUBLISH
X-PUBLISHED-TTL:P3D
REFRESH-INTERVAL:P3D
CALSCALE:GREGORIAN
BEGIN:VEVENT
DTSTART:20241017T213000Z
DTEND:20241017T233000Z
X-MICROSOFT-CDO-ALLDAYEVENT:FALSE
SUMMARY:Raccoon Valley Bank Dallas Center Open House
DESCRIPTION:Join the Raccoon Valley Bank team members and community members to celebrate and tour our newly remodeled location!\n\n\n\nWhere: Raccoon Valley Bank\n\n            590 Sugar Grove Ave\n\n            Dallas Center\, IA 50063\n\n\n\nPlease RSVP to bruddy@raccoonvalleybank.com
X-ALT-DESC;FMTTYPE=text/html:Join the Raccoon Valley Bank team members and community members to celebrate and tour our newly remodeled location!<br />\n<br />\nWhere: Raccoon Valley Bank<br />\n&nbsp\;&nbsp\;&nbsp\;&nbsp\;&nbsp\;&nbsp\;&nbsp\;&nbsp\;&nbsp\; &nbsp\; 590 Sugar Grove Ave<br />\n&nbsp\;&nbsp\;&nbsp\;&nbsp\;&nbsp\;&nbsp\;&nbsp\;&nbsp\;&nbsp\; &nbsp\; Dallas Center\, IA 50063<br />\n<br />\nPlease RSVP to bruddy@raccoonvalleybank.com
LOCATION:590 Sugar Grove Ave Dallas Center IA 50063
UID:e.1185.15755
SEQUENCE:3
DTSTAMP:20260421T061656Z
URL:http://business.uniquelyurbandale.com/events/details/raccoon-valley-bank-dallas-center-open-house-15755
END:VEVENT

END:VCALENDAR
