BEGIN:VCALENDAR
VERSION:2.0
PRODID:-//ChamberMaster//Event Calendar 2.0//EN
METHOD:PUBLISH
X-PUBLISHED-TTL:P3D
REFRESH-INTERVAL:P3D
CALSCALE:GREGORIAN
BEGIN:VEVENT
DTSTART:20221013T213000Z
DTEND:20221013T233000Z
X-MICROSOFT-CDO-ALLDAYEVENT:FALSE
SUMMARY:PurposeBank\, a Division of VisionBank Joint Ribbon Cutting Event
DESCRIPTION:Come help VisionBank celebrate the opening of their new division\, PurposeBank located in Grimes with a joint ribbon cutting celebration with the Grimes and Waukee Chambers of Commerce!\n\n\n\nIn November 2021\, VisionBank was classified as a Women Depository Institution (WDI). This designation prompted discussions among VisionBank leaders who decided they no longer wanted to just do work - they wanted to do good - they wanted to contribute to their greater purpose. And thus\, the notion of PurposeBank was born.\n\n\n\nWith PurposeBank\, they aim to provide financial education\, promote banking services\, and be a stable source of funding to entrepreneurs\, women owned businesses\, low-to-moderate income individuals\, and majority minority groups throughout Central Iowa.\n\n\n\nPurposeBank was created by open-minded bankers who want people to know that where you keep your money matters. It is designed to be a form of crowdfunding for the advancement of financial confidence and accessibility. You can contribute simply by keeping your money in a bank with values that create a better banking world. PurposeBank can do this\, together with you.\n\n\n\nTo help celebrate\, join all three chambers for drinks\, hors d'oeuvres and conversation\, plus a look at all the fantastic things PurposeBank have in the works!\n\nWe hope to see you there!
X-ALT-DESC;FMTTYPE=text/html:<strong style="color: rgb(0\, 0\, 255)\; font-size: 20px\;"><span style="font-size:20px\;">Come help VisionBank celebrate the opening of their new division\, PurposeBank located in Grimes with a joint ribbon cutting celebration with the Grimes and Waukee Chambers of Commerce!</span></strong><br />\n<br />\n<span style="font-family:calibri\,sans-serif\;"><span style="font-size:11.0pt\;">In November 2021\, VisionBank was classified as a Women Depository Institution (WDI). This designation prompted discussions among VisionBank leaders who decided they no longer wanted to just do work - they wanted to do good - they wanted to contribute to their greater purpose. And thus\, the notion of PurposeBank was born.<br />\n<br />\nWith PurposeBank\, they aim to provide financial education\, promote banking services\, and be a stable source of funding to entrepreneurs\, women owned businesses\, low-to-moderate income individuals\, and majority minority groups throughout Central Iowa.<br />\n<br />\nPurposeBank was created by open-minded bankers who want people to know that where you keep your money matters. It is designed to be a form of crowdfunding for the advancement of financial confidence and accessibility. You can contribute simply by keeping your money in a bank with values that create a better banking world. PurposeBank can do this\, together with you.<br />\n<br />\nTo help celebrate\, join all three chambers for drinks\, hors d&#39\;oeuvres and conversation\, plus a look at all the fantastic things PurposeBank have in the works!<br />\nWe hope to see you there!&nbsp\;</span></span>
LOCATION:925 SE Gateway Dr. Grimes\, IA 50111
UID:e.1185.12636
SEQUENCE:3
DTSTAMP:20260422T185356Z
URL:http://business.uniquelyurbandale.com/events/details/purposebank-a-division-of-visionbank-joint-ribbon-cutting-event-12636
END:VEVENT

END:VCALENDAR
