BEGIN:VCALENDAR
VERSION:2.0
PRODID:-//ChamberMaster//Event Calendar 2.0//EN
METHOD:PUBLISH
X-PUBLISHED-TTL:P3D
REFRESH-INTERVAL:P3D
CALSCALE:GREGORIAN
BEGIN:VEVENT
DTSTART:20240801T140000Z
DTEND:20240801T170000Z
X-MICROSOFT-CDO-ALLDAYEVENT:FALSE
SUMMARY:Promotional Product Showcase
DESCRIPTION:Join us at Allegra Marketing for an exciting Promotional Product Showcase on August 1st! From 9:00 AM to noon\, explore a diverse array of innovative and eye-catching promotional items that can help your brand stand out. Whether you're looking for the latest in branded merchandise\, unique giveaways\, or effective promotional strategies\, this event has something for everyone. Discover new ideas\, network with industry professionals\, and gain insights into how to leverage promotional products to enhance your marketing efforts. Don't miss this opportunity to see the latest trends and find inspiration for your next campaign. If you would like the chance to look at some products beforehand you can look at our promotional product website here: allegradsmpromo.com. We look forward to seeing you there! If you would like to RSVP please reach out to Madeline at madeline@allegradsm.com.
X-ALT-DESC;FMTTYPE=text/html:Join us at Allegra Marketing for an exciting Promotional Product Showcase on August 1st! From 9:00 AM to noon\, explore a diverse array of innovative and eye-catching promotional items that can help your brand stand out. Whether you&#39\;re looking for the latest in branded merchandise\, unique giveaways\, or effective promotional strategies\, this event has something for everyone. Discover new ideas\, network with industry professionals\, and gain insights into how to leverage promotional products to enhance your marketing efforts. Don&#39\;t miss this opportunity to see the latest trends and find inspiration for your next campaign. If you would like the chance to look at some products beforehand you can look at our promotional product website here: allegradsmpromo.com. We look forward to seeing you there! If you would like to RSVP please reach out to Madeline at madeline@allegradsm.com.
LOCATION:Allegra Marketing 4400 NW Urbandale Drive\, Urbandale\, IA 50322
UID:e.1185.15628
SEQUENCE:3
DTSTAMP:20260421T090209Z
URL:http://business.uniquelyurbandale.com/events/details/promotional-product-showcase-15628
END:VEVENT

END:VCALENDAR
