BEGIN:VCALENDAR
VERSION:2.0
PRODID:-//ChamberMaster//Event Calendar 2.0//EN
METHOD:PUBLISH
X-PUBLISHED-TTL:P3D
REFRESH-INTERVAL:P3D
CALSCALE:GREGORIAN
BEGIN:VEVENT
DTSTART:20220525T210000Z
DTEND:20220526T000000Z
X-MICROSOFT-CDO-ALLDAYEVENT:FALSE
SUMMARY:Power/mation Grand Opening & Ribbon Cutting
DESCRIPTION:Welcome to the Power/mation Grand Opening & Ribbon Cutting\n\n\n\nJoin us at our brand new office for a vendor tech fair and full day of events!\n\nLUNCH * FREEBIES * BEER * PRIZES * FOOD TRUCKS * DID WE MENTION BEER?\n\n\n\nWe are starting at 11:00AM\, so come out any time. The food trucks arrive at 4PM and will be serving through 7PM.\n\n\n\nLive demos of automation throughout the day! \n\n\n\nCome join us for the after party at SMASH PARK from 7PM - 10PM.\n\n\n\nPower/mation is a high tech automation distributor of sensors\, motion control\, robotics\, linear actuators\, AC and DC variable speed drives\, power transmission and torque devices\, programmable logic controllers\, SCADA solutions\, operator interface panels\, safety products\, network and communications solutions\, wireless solutions\, connectivity\, tension control\, temperature control\, panel components\, machine vision\, energy saving devices\, and value added services.
X-ALT-DESC;FMTTYPE=text/html:<span style="font-size:18px\;"><strong>Welcome to the Power/mation Grand Opening &amp\; Ribbon Cutting</strong></span><br />\n<br />\n<strong>Join us at our brand new office for a vendor tech fair and full day of events!</strong><br />\n<span style="font-size:14px\;"><strong><span style="color:#B22222\;">LUNCH * FREEBIES * BEER * PRIZES * FOOD TRUCKS * DID WE MENTION BEER?</span></strong></span><br />\n<br />\n<span style="font-size:14px\;"><strong>We are starting at 11:00AM\, so come out any time. The food trucks arrive at 4PM and will be serving through 7PM.<br />\n<br />\n<span style="color:#B22222\;"><em>Live demos of automation throughout the day!&nbsp\;</em></span></strong></span><br />\n<br />\nCome join us for the after party at <span style="color:#0000FF\;">SMASH PARK</span> from 7PM - 10PM.<br />\n<br />\n<span style="color: rgb(68\, 68\, 68)\; font-family: Arial\, Helvetica\, sans-serif\; font-size: 14px\;">Power/mation is a high tech automation distributor of sensors\, motion control\, robotics\, linear actuators\, AC and DC variable speed drives\, power transmission and torque devices\, programmable logic controllers\, SCADA solutions\, operator interface panels\, safety products\, network and communications solutions\, wireless solutions\, connectivity\, tension control\, temperature control\, panel components\, machine vision\, energy saving devices\, and value added services.</span>
LOCATION:Power/mation 4407 121st St. Urbandale\, IA 50323
UID:e.1185.12522
SEQUENCE:3
DTSTAMP:20260423T025614Z
URL:http://business.uniquelyurbandale.com/events/details/power-mation-grand-opening-ribbon-cutting-12522
END:VEVENT

END:VCALENDAR
