BEGIN:VCALENDAR
VERSION:2.0
PRODID:-//ChamberMaster//Event Calendar 2.0//EN
METHOD:PUBLISH
X-PUBLISHED-TTL:P3D
REFRESH-INTERVAL:P3D
CALSCALE:GREGORIAN
BEGIN:VEVENT
DTSTART:20240408T223000Z
DTEND:20240408T233000Z
X-MICROSOFT-CDO-ALLDAYEVENT:FALSE
SUMMARY:Paris/Normandy Document Party
DESCRIPTION:Bon voyage!!!\n\n\n\nWe hope you will join us on Monday\, April 8\, 2024 at 5:30 p.m. for a "document party" to meet fellow travelers\, review the final itinerary including available optional tours\, and ask questions.  Please let us know if you are able to make it!  \n\n\n\nWe are holding this event both in person and virtually if you are unable to meet at the Chamber office.  \n\n\n\nIn case you are unable to make it\, here are a couple of general travel videos about traveling to Paris that was shared with the Chamber by Bruno Eliazord\, the President of ufe - Iowa (Union of French People Abroad in Iowa).  \n\n\n\n10 Things to KNOW about CULTURE Differences in Paris\n\n10 Things to KNOW before you go to Paris\n\n10 Misconceptions about French & the French
X-ALT-DESC;FMTTYPE=text/html:<p><font color="#1f1f1f" face="Roboto\, arial\, sans-serif"><span style="font-size: 20px\; text-wrap: nowrap\;">Bon voyage!!!</span></font><br />\n<br />\nWe hope you will join us on<strong> Monday\, April 8\, 2024 at 5:30 p.m. </strong>for a &quot\;document party&quot\; to meet fellow travelers\, review the final itinerary including available optional tours\, and ask questions.&nbsp\; Please let us know if you are able to make it!&nbsp\;&nbsp\;<br />\n<br />\nWe are holding this event both in person and virtually if you are unable to meet at the Chamber office.&nbsp\;&nbsp\;<br />\n<br />\nIn case you are unable to make it\, here are a couple of general travel videos about traveling to Paris that was shared with the Chamber by Bruno Eliazord\, the President of ufe - Iowa (Union of French People Abroad in Iowa).&nbsp\;&nbsp\;<br />\n<br />\n<a href="https://www.youtube.com/watch?v=GXMZc9xb30A">10 Things to KNOW about CULTURE Differences in Paris</a><br />\n<a href="https://www.youtube.com/watch?v=lkCfBDntYTI">10 Things to KNOW before you go to Paris</a><br />\n<a href="https://www.youtube.com/watch?v=aORS_vYl434">10 Misconceptions about French &amp\; the French</a></p>\n
LOCATION:
UID:e.1185.15119
SEQUENCE:3
DTSTAMP:20260421T141157Z
URL:http://business.uniquelyurbandale.com/events/details/paris-normandy-document-party-15119
END:VEVENT

END:VCALENDAR
