BEGIN:VCALENDAR
VERSION:2.0
PRODID:-//ChamberMaster//Event Calendar 2.0//EN
METHOD:PUBLISH
X-PUBLISHED-TTL:P3D
REFRESH-INTERVAL:P3D
CALSCALE:GREGORIAN
BEGIN:VEVENT
DTSTART:20240406T140000Z
DTEND:20240406T160000Z
X-MICROSOFT-CDO-ALLDAYEVENT:FALSE
SUMMARY:Overcoming Impostor Syndrome
DESCRIPTION:Are you tired of feeling like you're not measuring up\, despite your achievements and qualifications? Do you find yourself doubting your abilities and fearing that you'll be exposed as a fraud? You're not alone. Impostor Syndrome affects countless individuals\, including high-achieving professionals like yourself.\n\nBut here's the good news: You have the power to break free from the grip of Impostor Syndrome and unleash your full potential. Join us for an exclusive workshop hosted by Imperfect Pathways\, dedicated to tackling Impostor Syndrome head-on and empowering you to thrive in your personal and professional life.\n\nLimited Seats Available: Secure Your Spot Now! \n\nTickets for this invaluable workshop are only $50\, and seats are limited. Don't miss out on this opportunity to invest in yourself and take the first step towards conquering Impostor Syndrome once and for all.\n\n\n\nDate: April 6th\, 2024 \n\nTime: 9AM - 11AM \n\nLocation: Imperfect Pathways\n\n3737 Woodland Ave. Ste. 640\n\nWest Des Moines\, IA 50266\n\nTo reserve your seat\, register now at https://www.imperfectpathways.com/event-details-registration/imposter-syndrome-workshop. Seize this opportunity to break free from self-doubt and unlock your true potential.
X-ALT-DESC;FMTTYPE=text/html:<p>Are you tired of feeling like you&#39\;re not measuring up\, despite your achievements and qualifications? Do you find yourself doubting your abilities and fearing that you&#39\;ll be exposed as a fraud? You&#39\;re not alone. Impostor Syndrome affects countless individuals\, including high-achieving professionals like yourself.</p>\n\n<p>But here&#39\;s the good news: You have the power to break free from the grip of Impostor Syndrome and unleash your full potential. Join us for an exclusive workshop hosted by Imperfect Pathways\, dedicated to tackling Impostor Syndrome head-on and empowering you to thrive in your personal and professional life.</p>\n\n<p>Limited Seats Available: Secure Your Spot Now!&nbsp\;</p>\n\n<p>Tickets for this invaluable workshop are only $50\, and seats are limited. Don&#39\;t miss out on this opportunity to invest in yourself and take the first step towards conquering Impostor Syndrome once and for all.<br />\n<br />\nDate: April 6th\, 2024&nbsp\;<br />\nTime: 9AM - 11AM&nbsp\;<br />\nLocation: Imperfect Pathways<br />\n3737 Woodland Ave. Ste. 640<br />\nWest Des Moines\, IA 50266</p>\n\n<p>To reserve your seat\, register now at&nbsp\;<a href="https://www.imperfectpathways.com/event-details-registration/imposter-syndrome-workshop">https://www.imperfectpathways.com/event-details-registration/imposter-syndrome-workshop</a>. Seize this opportunity to break free from self-doubt and unlock your true potential.<br />\n<br />\n&nbsp\;</p>\n
LOCATION:Imperfect Pathways 3737 Woodland Ave. Ste. 640 West Des Moines\, IA 50266
UID:e.1185.15113
SEQUENCE:3
DTSTAMP:20260421T142044Z
URL:http://business.uniquelyurbandale.com/events/details/overcoming-impostor-syndrome-15113
END:VEVENT

END:VCALENDAR
