BEGIN:VCALENDAR
VERSION:2.0
PRODID:-//ChamberMaster//Event Calendar 2.0//EN
METHOD:PUBLISH
X-PUBLISHED-TTL:P3D
REFRESH-INTERVAL:P3D
CALSCALE:GREGORIAN
BEGIN:VEVENT
DTSTART:20250118T020000Z
DTEND:20250118T050000Z
X-MICROSOFT-CDO-ALLDAYEVENT:FALSE
SUMMARY:Opus Taylor
DESCRIPTION:Six-member band\, Opus Taylor\, is coming to the Finish Line Show Lounge to perform their crowd-pleasing classic rock and blues music. You won't leave disappointed! Must be 21 or older to attend. Free show!
X-ALT-DESC;FMTTYPE=text/html:Six-member band\, Opus Taylor\, is coming to the Finish Line Show Lounge to perform their crowd-pleasing classic rock and blues music. You won&rsquo\;t leave disappointed! Must be 21 or older to attend. Free show!
LOCATION:Prairie Meadows Casino & Racetrack 1 Prairie Meadows Dr\, Altoona\, IA 50009
UID:e.1185.16054
SEQUENCE:3
DTSTAMP:20260421T013046Z
URL:http://business.uniquelyurbandale.com/events/details/opus-taylor-16054
END:VEVENT

END:VCALENDAR
