BEGIN:VCALENDAR
VERSION:2.0
PRODID:-//ChamberMaster//Event Calendar 2.0//EN
METHOD:PUBLISH
X-PUBLISHED-TTL:P3D
REFRESH-INTERVAL:P3D
CALSCALE:GREGORIAN
BEGIN:VEVENT
DTSTART;VALUE=DATE:20261005
DTEND;VALUE=DATE:20261006
TRANSP:TRANSPARENT
X-MICROSOFT-CDO-ALLDAYEVENT:TRUE
SUMMARY:OFFICE CLOSED
DESCRIPTION:The Urbandale Chamber is closed to allow for staff to participate in their annual staff planning retreat.
X-ALT-DESC;FMTTYPE=text/html:The Urbandale Chamber is closed to allow for staff to participate in their annual staff planning retreat.&nbsp\;
LOCATION:
UID:e.1185.17473
SEQUENCE:3
DTSTAMP:20260421T213736Z
URL:http://business.uniquelyurbandale.com/events/details/office-closed-17473
END:VEVENT

END:VCALENDAR
