BEGIN:VCALENDAR
VERSION:2.0
PRODID:-//ChamberMaster//Event Calendar 2.0//EN
METHOD:PUBLISH
X-PUBLISHED-TTL:P3D
REFRESH-INTERVAL:P3D
CALSCALE:GREGORIAN
BEGIN:VEVENT
DTSTART:20231019T210000Z
DTEND:20231019T230000Z
X-MICROSOFT-CDO-ALLDAYEVENT:FALSE
SUMMARY:NXT LVL Med Spa\, Recovery\, & Wellness Grand Opening Ribbon Cutting
DESCRIPTION:Join the Urbandale Chamber in celebrating NXT LVL Med Spa\, Recovery\, & Wellness' Grand Opening Ribbon Cutting.\n\n\n\nGrand Opening Ribbon-Cutting Event for NXT LVL Med Spa\, Recovery\, & Wellness. We are a new one-stop shop for beauty\, health\, and wellness providing the latest and greatest aesthetic and orthopedic treatments to Urbandale and the Des Moines Metro!
X-ALT-DESC;FMTTYPE=text/html:<strong style="color: rgb(75\, 0\, 130)\;"><span style="font-size: 20px\;">Join the Urbandale Chamber in celebrating NXT LVL Med Spa\, Recovery\, &amp\; Wellness&#39\; Grand Opening Ribbon Cutting.</span></strong><br />\n<br />\n<span style="color: rgb(36\, 36\, 36)\; font-family: sans-serif\; font-size: 12px\;">Grand Opening Ribbon-Cutting Event for NXT LVL Med Spa\, Recovery\, &amp\; Wellness. We are a new one-stop shop for beauty\, health\, and wellness providing the latest and greatest aesthetic and orthopedic treatments to Urbandale and the Des Moines Metro!</span>
LOCATION:NXT LVL Med Spa\, Recovery\, & Wellness 10441 Hickman Rd. Urbandale\, IA 50322
UID:e.1185.13161
SEQUENCE:3
DTSTAMP:20260421T225341Z
URL:http://business.uniquelyurbandale.com/events/details/nxt-lvl-med-spa-recovery-wellness-grand-opening-ribbon-cutting-13161
END:VEVENT

END:VCALENDAR
