BEGIN:VCALENDAR
VERSION:2.0
PRODID:-//ChamberMaster//Event Calendar 2.0//EN
METHOD:PUBLISH
X-PUBLISHED-TTL:P3D
REFRESH-INTERVAL:P3D
CALSCALE:GREGORIAN
BEGIN:VEVENT
DTSTART:20230802T000000Z
DTEND:20230802T020000Z
X-MICROSOFT-CDO-ALLDAYEVENT:FALSE
SUMMARY:Nights in the Heights: Sons of Gladys Kravitz
DESCRIPTION:Sons of Gladys Kravitz\n\nAlways a favorite - we say farewell on this\, our last Tuesday of 'Nights in the Heights'\, but we go out with a bang...The 'Sons' play only the BEST classic rock. You won't want to miss it. Bring a tissue...there will be tears when we say\, goodbye for the year. \n\nTheme: Tropical Night
X-ALT-DESC;FMTTYPE=text/html:<font face="arial"><span style="font-size: 20px\;">Sons of Gladys Kravitz</span></font><br />\n<font face="arial"><span style="font-size: 14px\;">Always a favorite - we say farewell on this\, our last Tuesday of &#39\;Nights in the Heights&#39\;\, but we go out with a bang...The &#39\;Sons&#39\; play only the BEST classic rock. You won&#39\;t want to miss it. Bring a tissue...there will be tears when we say\, goodbye for the year.&nbsp\;</span></font><br />\n<font face="arial"><span style="font-size: 14px\;"><strong>Theme</strong>: Tropical Night</span></font>
LOCATION:Colby Park 6900 School St. Windsor Heights\, IA 50324
UID:e.1185.13106
SEQUENCE:3
DTSTAMP:20260422T021223Z
URL:http://business.uniquelyurbandale.com/events/details/nights-in-the-heights-sons-of-gladys-kravitz-13106
END:VEVENT

END:VCALENDAR
