BEGIN:VCALENDAR
VERSION:2.0
PRODID:-//ChamberMaster//Event Calendar 2.0//EN
METHOD:PUBLISH
X-PUBLISHED-TTL:P3D
REFRESH-INTERVAL:P3D
CALSCALE:GREGORIAN
BEGIN:VEVENT
DTSTART:20230704T233000Z
DTEND:20230705T020000Z
X-MICROSOFT-CDO-ALLDAYEVENT:FALSE
SUMMARY:Nights in the Heights: Faculty Lounge
DESCRIPTION:It just wouldn't be the 4th of July without the popular Faculty Lounge teaching us how to 'get down and funky!' They will keep us dancing until the fireworks start!\n\n\n\nTHEME: Celebrate America   stay for the fireworks!
X-ALT-DESC;FMTTYPE=text/html:<span style="font-size:14px\;"><span style="font-family:arial\;"><span background-color:="" font-size:="" open="" style="color: rgb(0\, 0\, 0)\; font-family: ">It just wouldn&rsquo\;t be the 4th of July without the popular Faculty Lounge teaching us how to &lsquo\;get down and funky!&rsquo\; They will keep us dancing until the fireworks start!</span><br />\n<br />\n<span style="box-sizing: border-box\; margin: 0px\; padding: 0px\; border: 0px\; outline: 0px\; text-size-adjust: 100%\; vertical-align: baseline\; background: rgb(246\, 239\, 231)\; font-weight: 700\; color: rgb(0\, 0\, 0)\;">THEME:</span><span style="color: rgb(0\, 0\, 0)\;">&nbsp\;Celebrate America &ndash\; stay for the fireworks!</span></span></span>
LOCATION:Colby Park 6900 School St. Windsor Heights\, IA 50324
UID:e.1185.13102
SEQUENCE:3
DTSTAMP:20260422T060936Z
URL:http://business.uniquelyurbandale.com/events/details/nights-in-the-heights-faculty-lounge-13102
END:VEVENT

END:VCALENDAR
