BEGIN:VCALENDAR
VERSION:2.0
PRODID:-//ChamberMaster//Event Calendar 2.0//EN
METHOD:PUBLISH
X-PUBLISHED-TTL:P3D
REFRESH-INTERVAL:P3D
CALSCALE:GREGORIAN
BEGIN:VEVENT
DTSTART:20230719T000000Z
DTEND:20230719T020000Z
X-MICROSOFT-CDO-ALLDAYEVENT:FALSE
SUMMARY:Nights in the Heights: Burnin' Sensations
DESCRIPTION:Burnin' Sensations\n\nTalk about high energy! Burnin' Sensations delivers contagious grooves and infectious melodies wherever people gather. Always a fun time in 'The Heights'\n\nTheme: Bicycle Night
X-ALT-DESC;FMTTYPE=text/html:<font face="arial"><span style="font-size: 20px\;">Burnin&#39\; Sensations</span></font><br />\n<font face="arial"><span style="font-size: 14px\;">Talk about high energy! Burnin&#39\; Sensations delivers contagious grooves and infectious melodies wherever people gather. Always a fun time in &#39\;The Heights&#39\;</span></font><br />\n<font face="arial"><span style="font-size: 14px\;"><strong>Theme</strong>: Bicycle Night</span></font>
LOCATION:Colby Park 6900 School St. Windsor Heights\, IA 50324
UID:e.1185.13104
SEQUENCE:3
DTSTAMP:20260422T060843Z
URL:http://business.uniquelyurbandale.com/events/details/nights-in-the-heights-burnin-sensations-13104
END:VEVENT

END:VCALENDAR
