BEGIN:VCALENDAR
VERSION:2.0
PRODID:-//ChamberMaster//Event Calendar 2.0//EN
METHOD:PUBLISH
X-PUBLISHED-TTL:P3D
REFRESH-INTERVAL:P3D
CALSCALE:GREGORIAN
BEGIN:VEVENT
DTSTART:20230801T220000Z
DTEND:20230802T003000Z
X-MICROSOFT-CDO-ALLDAYEVENT:FALSE
SUMMARY:National Night Out at the UPD
DESCRIPTION:Join us for our annual National Night Out Event\, the biggest block party in town\, as we celebrate community and partnerships that keep OUR citizens safe!\n\nThis is a free event for all ages and we assure you\, there's something for everyone!
X-ALT-DESC;FMTTYPE=text/html:<span style="color: rgb(5\, 5\, 5)\; font-family: &quot\;Segoe UI Historic&quot\;\, &quot\;Segoe UI&quot\;\, Helvetica\, Arial\, sans-serif\; font-size: 15px\;">Join us for our annual National Night Out Event\, the biggest block party in town\, as we celebrate community and partnerships that keep OUR citizens safe!</span><br style="color: rgb(5\, 5\, 5)\; font-family: &quot\;Segoe UI Historic&quot\;\, &quot\;Segoe UI&quot\;\, Helvetica\, Arial\, sans-serif\; font-size: 15px\;" />\n<span style="color: rgb(5\, 5\, 5)\; font-family: &quot\;Segoe UI Historic&quot\;\, &quot\;Segoe UI&quot\;\, Helvetica\, Arial\, sans-serif\; font-size: 15px\;">This is a free event for all ages and we assure you\, there&#39\;s something for everyone!</span>
LOCATION:Urbandale Police Department
UID:e.1185.13112
SEQUENCE:3
DTSTAMP:20260422T015906Z
URL:http://business.uniquelyurbandale.com/events/details/national-night-out-at-the-upd-13112
END:VEVENT

END:VCALENDAR
