BEGIN:VCALENDAR
VERSION:2.0
PRODID:-//ChamberMaster//Event Calendar 2.0//EN
METHOD:PUBLISH
X-PUBLISHED-TTL:P3D
REFRESH-INTERVAL:P3D
CALSCALE:GREGORIAN
BEGIN:VEVENT
DTSTART:20251120T133000Z
DTEND:20251120T150000Z
X-MICROSOFT-CDO-ALLDAYEVENT:FALSE
SUMMARY:MWI Health Provider Breakfast
DESCRIPTION:Join us for a casual morning of bagels\, coffee\, and connection at our monthly Provider Meet & Greet Breakfast. This is a great opportunity for healthcare providers from across the area to share their practice\, exchange ideas\, and build relationships with fellow professionals in a relaxed setting.\n\nWhether you're new to the community or a long-time local\, we welcome you to stop by\, say hello\, and catch up with colleagues.\n\nAll healthcare providers are welcome.
X-ALT-DESC;FMTTYPE=text/html:<p>Join us for a casual morning of <strong>bagels\, coffee\, and connection</strong> at our monthly Provider Meet &amp\; Greet Breakfast. This is a great opportunity for healthcare providers from across the area to share their practice\, exchange ideas\, and build relationships with fellow professionals in a relaxed setting.</p>\n\n<p>Whether you&#39\;re new to the community or a long-time local\, we welcome you to stop by\, say hello\, and catch up with colleagues.</p>\n\n<p><strong>All healthcare providers are welcome.&nbsp\;</strong></p>\n
LOCATION:MWI Health 3737 Woodland Ave Suite 410 West Des Moines\, IA 50266
UID:e.1185.17474
SEQUENCE:3
DTSTAMP:20260421T191133Z
URL:http://business.uniquelyurbandale.com/events/details/mwi-health-provider-breakfast-17474
END:VEVENT

END:VCALENDAR
